BEGIN:VCALENDAR
VERSION:2.0
PRODID:-//Bezirksverband Köln-Nord - ECPv6.15.11//NONSGML v1.0//EN
CALSCALE:GREGORIAN
METHOD:PUBLISH
X-WR-CALNAME:Bezirksverband Köln-Nord
X-ORIGINAL-URL:https://www.bv-koeln-nord.de
X-WR-CALDESC:Veranstaltungen für Bezirksverband Köln-Nord
REFRESH-INTERVAL;VALUE=DURATION:PT1H
X-Robots-Tag:noindex
X-PUBLISHED-TTL:PT1H
BEGIN:VTIMEZONE
TZID:Europe/Berlin
BEGIN:DAYLIGHT
TZOFFSETFROM:+0100
TZOFFSETTO:+0200
TZNAME:CEST
DTSTART:20250330T010000
END:DAYLIGHT
BEGIN:STANDARD
TZOFFSETFROM:+0200
TZOFFSETTO:+0100
TZNAME:CET
DTSTART:20251026T010000
END:STANDARD
BEGIN:DAYLIGHT
TZOFFSETFROM:+0100
TZOFFSETTO:+0200
TZNAME:CEST
DTSTART:20260329T010000
END:DAYLIGHT
BEGIN:STANDARD
TZOFFSETFROM:+0200
TZOFFSETTO:+0100
TZNAME:CET
DTSTART:20261025T010000
END:STANDARD
BEGIN:DAYLIGHT
TZOFFSETFROM:+0100
TZOFFSETTO:+0200
TZNAME:CEST
DTSTART:20270328T010000
END:DAYLIGHT
BEGIN:STANDARD
TZOFFSETFROM:+0200
TZOFFSETTO:+0100
TZNAME:CET
DTSTART:20271031T010000
END:STANDARD
END:VTIMEZONE
BEGIN:VEVENT
DTSTART;VALUE=DATE:20260422
DTEND;VALUE=DATE:20260423
DTSTAMP:20260422T145154
CREATED:20251124T121401Z
LAST-MODIFIED:20260320T071306Z
UID:6673-1776816000-1776902399@www.bv-koeln-nord.de
SUMMARY:ausserordentliche Bezirksbruderratsversammlung
DESCRIPTION:
URL:https://www.bv-koeln-nord.de/event/ausserordentliche-bezirksbruderratsversammlung/
CATEGORIES:Bezirksveranstaltungen
ATTACH;FMTTYPE=image/png:https://www.bv-koeln-nord.de/wp-content/uploads/2025/10/cropped-file_00000000696861f5bfc05c20d48d5e49-1.png
ORGANIZER;CN="Bezirksverband K%C3%B6ln-Nord":MAILTO:info@bv-koeln-nord.de
END:VEVENT
END:VCALENDAR